BEGIN:VCALENDAR
VERSION:2.0
PRODID:JMS Hockey
X-PUBLISHED-TTL:P1W
BEGIN:VEVENT
UID:69e7ad78e3bde
DTSTART:20140327T024500Z
SEQUENCE:0
TRANSP:OPAQUE
DTEND:20140327T041500Z
URL:http://jmshockey.com/games/6065
LOCATION:St Thomas Ice Arena
SUMMARY:Lower Level Game at St Thomas Ice Arena
CLASS:PUBLIC
DTSTAMP:20260421T120144Z
END:VEVENT
END:VCALENDAR