BEGIN:VCALENDAR
VERSION:2.0
PRODID:JMS Hockey
X-PUBLISHED-TTL:P1W
BEGIN:VEVENT
UID:69e7cadcd6e72
DTSTART:20140524T013000Z
SEQUENCE:0
TRANSP:OPAQUE
DTEND:20140524T030000Z
URL:http://jmshockey.com/games/6015
LOCATION:Eden Prairie Comm Ctr
SUMMARY:Intermediate Game at Eden Prairie Comm Ctr
CLASS:PUBLIC
DTSTAMP:20260421T140708Z
END:VEVENT
END:VCALENDAR