BEGIN:VCALENDAR
VERSION:2.0
PRODID:JMS Hockey
X-PUBLISHED-TTL:P1W
BEGIN:VEVENT
UID:69e7c36d17af6
DTSTART:20140419T020000Z
SEQUENCE:0
TRANSP:OPAQUE
DTEND:20140419T033000Z
URL:http://jmshockey.com/games/6010
LOCATION:Eden Prairie Comm Ctr
SUMMARY:Intermediate Game at Eden Prairie Comm Ctr
CLASS:PUBLIC
DTSTAMP:20260421T133525Z
END:VEVENT
END:VCALENDAR