BEGIN:VCALENDAR
VERSION:2.0
PRODID:JMS Hockey
X-PUBLISHED-TTL:P1W
BEGIN:VEVENT
UID:69e9d81b1e010
DTSTART:20140308T023000Z
SEQUENCE:0
TRANSP:OPAQUE
DTEND:20140308T040000Z
URL:http://jmshockey.com/games/6004
LOCATION:Eden Prairie Comm Ctr
SUMMARY:Intermediate Game at Eden Prairie Comm Ctr
CLASS:PUBLIC
DTSTAMP:20260423T032811Z
END:VEVENT
END:VCALENDAR