BEGIN:VCALENDAR
VERSION:2.0
PRODID:JMS Hockey
X-PUBLISHED-TTL:P1W
BEGIN:VEVENT
UID:69e7d761e2d60
DTSTART:20140521T013000Z
SEQUENCE:0
TRANSP:OPAQUE
DTEND:20140521T030000Z
URL:http://jmshockey.com/games/6000
LOCATION:Eden Prairie Comm Ctr
SUMMARY:Upper Level Game at Eden Prairie Comm Ctr
CLASS:PUBLIC
DTSTAMP:20260421T150033Z
END:VEVENT
END:VCALENDAR