BEGIN:VCALENDAR
VERSION:2.0
PRODID:JMS Hockey
X-PUBLISHED-TTL:P1W
BEGIN:VEVENT
UID:69e7d483372b6
DTSTART:20140423T020000Z
SEQUENCE:0
TRANSP:OPAQUE
DTEND:20140423T033000Z
URL:http://jmshockey.com/games/5996
LOCATION:Eden Prairie Comm Ctr
SUMMARY:Upper Level Game at Eden Prairie Comm Ctr
CLASS:PUBLIC
DTSTAMP:20260421T144819Z
END:VEVENT
END:VCALENDAR