BEGIN:VCALENDAR
VERSION:2.0
PRODID:JMS Hockey
X-PUBLISHED-TTL:P1W
BEGIN:VEVENT
UID:69e7e65d0b6f3
DTSTART:20090606T000000Z
SEQUENCE:0
TRANSP:OPAQUE
DTEND:20090606T013000Z
URL:http://jmshockey.com/games/598
LOCATION:Roseville Skating Center
SUMMARY:Level 2 Game at Roseville Skating Center
CLASS:PUBLIC
DTSTAMP:20260421T160429Z
END:VEVENT
END:VCALENDAR