BEGIN:VCALENDAR
VERSION:2.0
PRODID:JMS Hockey
X-PUBLISHED-TTL:P1W
BEGIN:VEVENT
UID:69e7b9dcae048
DTSTART:20140723T023000Z
SEQUENCE:0
TRANSP:OPAQUE
DTEND:20140723T040000Z
URL:http://jmshockey.com/games/5963
LOCATION:Apple Valley Hayes Park Arena
SUMMARY:Lower Level Game at Apple Valley Hayes Park Arena
CLASS:PUBLIC
DTSTAMP:20260421T125436Z
END:VEVENT
END:VCALENDAR