BEGIN:VCALENDAR
VERSION:2.0
PRODID:JMS Hockey
X-PUBLISHED-TTL:P1W
BEGIN:VEVENT
UID:69e7cb5621c15
DTSTART:20140305T033000Z
SEQUENCE:0
TRANSP:OPAQUE
DTEND:20140305T050000Z
URL:http://jmshockey.com/games/5957
LOCATION:Apple Valley Sports Arena
SUMMARY:Lower Level Game at Apple Valley Sports Arena
CLASS:PUBLIC
DTSTAMP:20260421T140910Z
END:VEVENT
END:VCALENDAR