BEGIN:VCALENDAR
VERSION:2.0
PRODID:JMS Hockey
X-PUBLISHED-TTL:P1W
BEGIN:VEVENT
UID:69e7ad9e2014a
DTSTART:20140201T233000Z
SEQUENCE:0
TRANSP:OPAQUE
DTEND:20140202T010000Z
URL:http://jmshockey.com/games/5955
LOCATION:State Fair Coliseum
SUMMARY:All level Game at State Fair Coliseum
CLASS:PUBLIC
DTSTAMP:20260421T120222Z
END:VEVENT
END:VCALENDAR