BEGIN:VCALENDAR
VERSION:2.0
PRODID:JMS Hockey
X-PUBLISHED-TTL:P1W
BEGIN:VEVENT
UID:69e7ccb18685f
DTSTART:20140212T041500Z
SEQUENCE:0
TRANSP:OPAQUE
DTEND:20140212T054500Z
URL:http://jmshockey.com/games/5937
LOCATION:Polar Arena
SUMMARY:Upper Level Game at Polar Arena
CLASS:PUBLIC
DTSTAMP:20260421T141457Z
END:VEVENT
END:VCALENDAR