BEGIN:VCALENDAR
VERSION:2.0
PRODID:JMS Hockey
X-PUBLISHED-TTL:P1W
BEGIN:VEVENT
UID:69e7dc961e0dc
DTSTART:20090602T021500Z
SEQUENCE:0
TRANSP:OPAQUE
DTEND:20090602T034500Z
URL:http://jmshockey.com/games/593
LOCATION:Plymouth Ice Center
SUMMARY:Level 3 Game at Plymouth Ice Center
CLASS:PUBLIC
DTSTAMP:20260421T152246Z
END:VEVENT
END:VCALENDAR