BEGIN:VCALENDAR
VERSION:2.0
PRODID:JMS Hockey
X-PUBLISHED-TTL:P1W
BEGIN:VEVENT
UID:69e7c13dc5468
DTSTART:20140206T040000Z
SEQUENCE:0
TRANSP:OPAQUE
DTEND:20140206T053000Z
URL:http://jmshockey.com/games/5923
LOCATION:Victory Memorial (VMIA)
SUMMARY:Elite Game at Victory Memorial (VMIA)
CLASS:PUBLIC
DTSTAMP:20260421T132605Z
END:VEVENT
END:VCALENDAR