BEGIN:VCALENDAR
VERSION:2.0
PRODID:JMS Hockey
X-PUBLISHED-TTL:P1W
BEGIN:VEVENT
UID:69e7c366c3da0
DTSTART:20140220T035000Z
SEQUENCE:0
TRANSP:OPAQUE
DTEND:20140220T052000Z
URL:http://jmshockey.com/games/5920
LOCATION:St Thomas Ice Arena
SUMMARY:Lower Level Game at St Thomas Ice Arena
CLASS:PUBLIC
DTSTAMP:20260421T133518Z
END:VEVENT
END:VCALENDAR