BEGIN:VCALENDAR
VERSION:2.0
PRODID:JMS Hockey
X-PUBLISHED-TTL:P1W
BEGIN:VEVENT
UID:69e79a39c481b
DTSTART:20140214T024500Z
SEQUENCE:0
TRANSP:OPAQUE
DTEND:20140214T041500Z
URL:http://jmshockey.com/games/5918
LOCATION:St Thomas Ice Arena
SUMMARY:All level Game at St Thomas Ice Arena
CLASS:PUBLIC
DTSTAMP:20260421T103937Z
END:VEVENT
END:VCALENDAR