BEGIN:VCALENDAR
VERSION:2.0
PRODID:JMS Hockey
X-PUBLISHED-TTL:P1W
BEGIN:VEVENT
UID:69e7c37a95f72
DTSTART:20140304T035000Z
SEQUENCE:0
TRANSP:OPAQUE
DTEND:20140304T052000Z
URL:http://jmshockey.com/games/5911
LOCATION:St Thomas Ice Arena
SUMMARY:Elite Game at St Thomas Ice Arena
CLASS:PUBLIC
DTSTAMP:20260421T133538Z
END:VEVENT
END:VCALENDAR