BEGIN:VCALENDAR
VERSION:2.0
PRODID:JMS Hockey
X-PUBLISHED-TTL:P1W
BEGIN:VEVENT
UID:69e7b5988943b
DTSTART:20140208T040000Z
SEQUENCE:0
TRANSP:OPAQUE
DTEND:20140208T053000Z
URL:http://jmshockey.com/games/5910
LOCATION:Schwan Superrink
SUMMARY:All level Game at Schwan Superrink
CLASS:PUBLIC
DTSTAMP:20260421T123624Z
END:VEVENT
END:VCALENDAR