BEGIN:VCALENDAR
VERSION:2.0
PRODID:JMS Hockey
X-PUBLISHED-TTL:P1W
BEGIN:VEVENT
UID:69e7d484a6b95
DTSTART:20140301T041500Z
SEQUENCE:0
TRANSP:OPAQUE
DTEND:20140301T054500Z
URL:http://jmshockey.com/games/5896
LOCATION:Roseville Skating Center
SUMMARY:Lower Level Game at Roseville Skating Center
CLASS:PUBLIC
DTSTAMP:20260421T144820Z
END:VEVENT
END:VCALENDAR