BEGIN:VCALENDAR
VERSION:2.0
PRODID:JMS Hockey
X-PUBLISHED-TTL:P1W
BEGIN:VEVENT
UID:69e7b35ceb943
DTSTART:20140217T030000Z
SEQUENCE:0
TRANSP:OPAQUE
DTEND:20140217T043000Z
URL:http://jmshockey.com/games/5893
LOCATION:Polar Arena
SUMMARY:Upper Level Game at Polar Arena
CLASS:PUBLIC
DTSTAMP:20260421T122652Z
END:VEVENT
END:VCALENDAR