BEGIN:VCALENDAR
VERSION:2.0
PRODID:JMS Hockey
X-PUBLISHED-TTL:P1W
BEGIN:VEVENT
UID:69e7cb3ed9225
DTSTART:20140206T023000Z
SEQUENCE:0
TRANSP:OPAQUE
DTEND:20140206T040000Z
URL:http://jmshockey.com/games/5887
LOCATION:Polar Arena
SUMMARY:Lower Level Game at Polar Arena
CLASS:PUBLIC
DTSTAMP:20260421T140846Z
END:VEVENT
END:VCALENDAR