BEGIN:VCALENDAR
VERSION:2.0
PRODID:JMS Hockey
X-PUBLISHED-TTL:P1W
BEGIN:VEVENT
UID:69e7adb513a50
DTSTART:20140220T023000Z
SEQUENCE:0
TRANSP:OPAQUE
DTEND:20140220T040000Z
URL:http://jmshockey.com/games/5886
LOCATION:Polar Arena
SUMMARY:Lower Level Game at Polar Arena
CLASS:PUBLIC
DTSTAMP:20260421T120245Z
END:VEVENT
END:VCALENDAR