BEGIN:VCALENDAR
VERSION:2.0
PRODID:JMS Hockey
X-PUBLISHED-TTL:P1W
BEGIN:VEVENT
UID:69e842c584c0c
DTSTART:20140210T040000Z
SEQUENCE:0
TRANSP:OPAQUE
DTEND:20140210T053000Z
URL:http://jmshockey.com/games/5877
LOCATION:Minnehaha Academy
SUMMARY:All level Game at Minnehaha Academy
CLASS:PUBLIC
DTSTAMP:20260421T223845Z
END:VEVENT
END:VCALENDAR