BEGIN:VCALENDAR
VERSION:2.0
PRODID:JMS Hockey
X-PUBLISHED-TTL:P1W
BEGIN:VEVENT
UID:69e79a1eb423a
DTSTART:20140224T040000Z
SEQUENCE:0
TRANSP:OPAQUE
DTEND:20140224T053000Z
URL:http://jmshockey.com/games/5875
LOCATION:Minnehaha Academy
SUMMARY:All level Game at Minnehaha Academy
CLASS:PUBLIC
DTSTAMP:20260421T103910Z
END:VEVENT
END:VCALENDAR