BEGIN:VCALENDAR
VERSION:2.0
PRODID:JMS Hockey
X-PUBLISHED-TTL:P1W
BEGIN:VEVENT
UID:69e7adbdd90e9
DTSTART:20140206T033000Z
SEQUENCE:0
TRANSP:OPAQUE
DTEND:20140206T050000Z
URL:http://jmshockey.com/games/5868
LOCATION:Maple Grove
SUMMARY:Level 3 Game at Maple Grove
CLASS:PUBLIC
DTSTAMP:20260421T120253Z
END:VEVENT
END:VCALENDAR