BEGIN:VCALENDAR
VERSION:2.0
PRODID:JMS Hockey
X-PUBLISHED-TTL:P1W
BEGIN:VEVENT
UID:69e7cb3e4628d
DTSTART:20140219T033000Z
SEQUENCE:0
TRANSP:OPAQUE
DTEND:20140219T050000Z
URL:http://jmshockey.com/games/5863
LOCATION:Apple Valley Sports Arena
SUMMARY:Lower Level Game at Apple Valley Sports Arena
CLASS:PUBLIC
DTSTAMP:20260421T140846Z
END:VEVENT
END:VCALENDAR