BEGIN:VCALENDAR
VERSION:2.0
PRODID:JMS Hockey
X-PUBLISHED-TTL:P1W
BEGIN:VEVENT
UID:69e7c2f957145
DTSTART:20090530T004500Z
SEQUENCE:0
TRANSP:OPAQUE
DTEND:20090530T021500Z
URL:http://jmshockey.com/games/586
LOCATION:Bloomington Ice Gardens
SUMMARY:Level 1 Game at Bloomington Ice Gardens
CLASS:PUBLIC
DTSTAMP:20260421T133329Z
END:VEVENT
END:VCALENDAR