BEGIN:VCALENDAR
VERSION:2.0
PRODID:JMS Hockey
X-PUBLISHED-TTL:P1W
BEGIN:VEVENT
UID:69e79fc9b4ff3
DTSTART:20140307T033000Z
SEQUENCE:0
TRANSP:OPAQUE
DTEND:20140307T050000Z
URL:http://jmshockey.com/games/5858
LOCATION:Apple Valley Sports Arena
SUMMARY:Upper Level Game at Apple Valley Sports Arena
CLASS:PUBLIC
DTSTAMP:20260421T110321Z
END:VEVENT
END:VCALENDAR