BEGIN:VCALENDAR
VERSION:2.0
PRODID:JMS Hockey
X-PUBLISHED-TTL:P1W
BEGIN:VEVENT
UID:69e79a31e1be9
DTSTART:20140105T033000Z
SEQUENCE:0
TRANSP:OPAQUE
DTEND:20140105T050000Z
URL:http://jmshockey.com/games/5834
LOCATION:St Thomas Ice Arena
SUMMARY:All level Game at St Thomas Ice Arena
CLASS:PUBLIC
DTSTAMP:20260421T103929Z
END:VEVENT
END:VCALENDAR