BEGIN:VCALENDAR
VERSION:2.0
PRODID:JMS Hockey
X-PUBLISHED-TTL:P1W
BEGIN:VEVENT
UID:69e7c50f075e8
DTSTART:20140108T041500Z
SEQUENCE:0
TRANSP:OPAQUE
DTEND:20140108T054500Z
URL:http://jmshockey.com/games/5829
LOCATION:Polar Arena
SUMMARY:Upper Level Game at Polar Arena
CLASS:PUBLIC
DTSTAMP:20260421T134223Z
END:VEVENT
END:VCALENDAR