BEGIN:VCALENDAR
VERSION:2.0
PRODID:JMS Hockey
X-PUBLISHED-TTL:P1W
BEGIN:VEVENT
UID:69e7ea52caf78
DTSTART:20140114T034500Z
SEQUENCE:0
TRANSP:OPAQUE
DTEND:20140114T051500Z
URL:http://jmshockey.com/games/5827
LOCATION:Augsburg
SUMMARY:Intermediate Game at Augsburg
CLASS:PUBLIC
DTSTAMP:20260421T162122Z
END:VEVENT
END:VCALENDAR