BEGIN:VCALENDAR
VERSION:2.0
PRODID:JMS Hockey
X-PUBLISHED-TTL:P1W
BEGIN:VEVENT
UID:69e79a35407a8
DTSTART:20140121T032000Z
SEQUENCE:0
TRANSP:OPAQUE
DTEND:20140121T045000Z
URL:http://jmshockey.com/games/5808
LOCATION:Doug Woog Arena (Wakota)
SUMMARY:Lower Level Game at Doug Woog Arena (Wakota)
CLASS:PUBLIC
DTSTAMP:20260421T103933Z
END:VEVENT
END:VCALENDAR