BEGIN:VCALENDAR
VERSION:2.0
PRODID:JMS Hockey
X-PUBLISHED-TTL:P1W
BEGIN:VEVENT
UID:69e7c37bc353b
DTSTART:20140116T034500Z
SEQUENCE:0
TRANSP:OPAQUE
DTEND:20140116T051500Z
URL:http://jmshockey.com/games/5799
LOCATION:Victory Memorial (VMIA)
SUMMARY:Elite Game at Victory Memorial (VMIA)
CLASS:PUBLIC
DTSTAMP:20260421T133539Z
END:VEVENT
END:VCALENDAR