BEGIN:VCALENDAR
VERSION:2.0
PRODID:JMS Hockey
X-PUBLISHED-TTL:P1W
BEGIN:VEVENT
UID:69e79a2f412dd
DTSTART:20140123T035000Z
SEQUENCE:0
TRANSP:OPAQUE
DTEND:20140123T052000Z
URL:http://jmshockey.com/games/5787
LOCATION:St Thomas Ice Arena
SUMMARY:Lower Level Game at St Thomas Ice Arena
CLASS:PUBLIC
DTSTAMP:20260421T103927Z
END:VEVENT
END:VCALENDAR