BEGIN:VCALENDAR
VERSION:2.0
PRODID:JMS Hockey
X-PUBLISHED-TTL:P1W
BEGIN:VEVENT
UID:69e7b139025a8
DTSTART:20140109T035000Z
SEQUENCE:0
TRANSP:OPAQUE
DTEND:20140109T052000Z
URL:http://jmshockey.com/games/5783
LOCATION:St Thomas Ice Arena
SUMMARY:Lower Level Game at St Thomas Ice Arena
CLASS:PUBLIC
DTSTAMP:20260421T121745Z
END:VEVENT
END:VCALENDAR