BEGIN:VCALENDAR
VERSION:2.0
PRODID:JMS Hockey
X-PUBLISHED-TTL:P1W
BEGIN:VEVENT
UID:69e7cb9789d0a
DTSTART:20140103T034000Z
SEQUENCE:0
TRANSP:OPAQUE
DTEND:20140103T051000Z
URL:http://jmshockey.com/games/5781
LOCATION:St Thomas Ice Arena
SUMMARY:All level Game at St Thomas Ice Arena
CLASS:PUBLIC
DTSTAMP:20260421T141015Z
END:VEVENT
END:VCALENDAR