BEGIN:VCALENDAR
VERSION:2.0
PRODID:JMS Hockey
X-PUBLISHED-TTL:P1W
BEGIN:VEVENT
UID:69e7a30f49fcd
DTSTART:20140123T023000Z
SEQUENCE:0
TRANSP:OPAQUE
DTEND:20140123T040000Z
URL:http://jmshockey.com/games/5773
LOCATION:Polar Arena
SUMMARY:Lower Level Game at Polar Arena
CLASS:PUBLIC
DTSTAMP:20260421T111719Z
END:VEVENT
END:VCALENDAR