BEGIN:VCALENDAR
VERSION:2.0
PRODID:JMS Hockey
X-PUBLISHED-TTL:P1W
BEGIN:VEVENT
UID:69e7a36d6e60a
DTSTART:20140116T023000Z
SEQUENCE:0
TRANSP:OPAQUE
DTEND:20140116T040000Z
URL:http://jmshockey.com/games/5771
LOCATION:Polar Arena
SUMMARY:Lower Level Game at Polar Arena
CLASS:PUBLIC
DTSTAMP:20260421T111853Z
END:VEVENT
END:VCALENDAR