BEGIN:VCALENDAR
VERSION:2.0
PRODID:JMS Hockey
X-PUBLISHED-TTL:P1W
BEGIN:VEVENT
UID:69e7b59d7b775
DTSTART:20140106T003000Z
SEQUENCE:0
TRANSP:OPAQUE
DTEND:20140106T020000Z
URL:http://jmshockey.com/games/5769
LOCATION:Polar Arena
SUMMARY:Upper Level Game at Polar Arena
CLASS:PUBLIC
DTSTAMP:20260421T123629Z
END:VEVENT
END:VCALENDAR