BEGIN:VCALENDAR
VERSION:2.0
PRODID:JMS Hockey
X-PUBLISHED-TTL:P1W
BEGIN:VEVENT
UID:69e7cada61e99
DTSTART:20140131T021500Z
SEQUENCE:0
TRANSP:OPAQUE
DTEND:20140131T031500Z
URL:http://jmshockey.com/games/5768
LOCATION:Parade Ice Gardens
SUMMARY:Lower Level Game at Parade Ice Gardens
CLASS:PUBLIC
DTSTAMP:20260421T140706Z
END:VEVENT
END:VCALENDAR