BEGIN:VCALENDAR
VERSION:2.0
PRODID:JMS Hockey
X-PUBLISHED-TTL:P1W
BEGIN:VEVENT
UID:69e7e76e6d38b
DTSTART:20140124T034500Z
SEQUENCE:0
TRANSP:OPAQUE
DTEND:20140124T051500Z
URL:http://jmshockey.com/games/5761
LOCATION:Maple Grove
SUMMARY:Lower Level Game at Maple Grove
CLASS:PUBLIC
DTSTAMP:20260421T160902Z
END:VEVENT
END:VCALENDAR