BEGIN:VCALENDAR
VERSION:2.0
PRODID:JMS Hockey
X-PUBLISHED-TTL:P1W
BEGIN:VEVENT
UID:69e7c6fe26591
DTSTART:20140123T033000Z
SEQUENCE:0
TRANSP:OPAQUE
DTEND:20140123T050000Z
URL:http://jmshockey.com/games/5760
LOCATION:Maple Grove
SUMMARY:Level 3 Game at Maple Grove
CLASS:PUBLIC
DTSTAMP:20260421T135038Z
END:VEVENT
END:VCALENDAR