BEGIN:VCALENDAR
VERSION:2.0
PRODID:JMS Hockey
X-PUBLISHED-TTL:P1W
BEGIN:VEVENT
UID:69e7f86ba8630
DTSTART:20140120T040000Z
SEQUENCE:0
TRANSP:OPAQUE
DTEND:20140120T053000Z
URL:http://jmshockey.com/games/5752
LOCATION:Minnehaha Academy
SUMMARY:All level Game at Minnehaha Academy
CLASS:PUBLIC
DTSTAMP:20260421T172131Z
END:VEVENT
END:VCALENDAR