BEGIN:VCALENDAR
VERSION:2.0
PRODID:JMS Hockey
X-PUBLISHED-TTL:P1W
BEGIN:VEVENT
UID:69e8493f535ef
DTSTART:20140113T040000Z
SEQUENCE:0
TRANSP:OPAQUE
DTEND:20140113T053000Z
URL:http://jmshockey.com/games/5750
LOCATION:Minnehaha Academy
SUMMARY:All level Game at Minnehaha Academy
CLASS:PUBLIC
DTSTAMP:20260421T230623Z
END:VEVENT
END:VCALENDAR