BEGIN:VCALENDAR
VERSION:2.0
PRODID:JMS Hockey
X-PUBLISHED-TTL:P1W
BEGIN:VEVENT
UID:69e7c3bc97f79
DTSTART:20131221T030000Z
SEQUENCE:0
TRANSP:OPAQUE
DTEND:20131221T043000Z
URL:http://jmshockey.com/games/5727
LOCATION:St Louis Park Rec Center
SUMMARY:Lower Level Game at St Louis Park Rec Center
CLASS:PUBLIC
DTSTAMP:20260421T133644Z
END:VEVENT
END:VCALENDAR