BEGIN:VCALENDAR
VERSION:2.0
PRODID:JMS Hockey
X-PUBLISHED-TTL:P1W
BEGIN:VEVENT
UID:69e79f7e18714
DTSTART:20131219T033000Z
SEQUENCE:0
TRANSP:OPAQUE
DTEND:20131219T050000Z
URL:http://jmshockey.com/games/5711
LOCATION:Doug Woog Arena (Wakota)
SUMMARY:Level 3 Game at Doug Woog Arena (Wakota)
CLASS:PUBLIC
DTSTAMP:20260421T110206Z
END:VEVENT
END:VCALENDAR