BEGIN:VCALENDAR
VERSION:2.0
PRODID:JMS Hockey
X-PUBLISHED-TTL:P1W
BEGIN:VEVENT
UID:69e785c25d7bb
DTSTART:20131210T032000Z
SEQUENCE:0
TRANSP:OPAQUE
DTEND:20131210T045000Z
URL:http://jmshockey.com/games/5707
LOCATION:Doug Woog Arena (Wakota)
SUMMARY:Lower Level Game at Doug Woog Arena (Wakota)
CLASS:PUBLIC
DTSTAMP:20260421T091218Z
END:VEVENT
END:VCALENDAR