BEGIN:VCALENDAR
VERSION:2.0
PRODID:JMS Hockey
X-PUBLISHED-TTL:P1W
BEGIN:VEVENT
UID:69e7ce55a0a3a
DTSTART:20090527T021500Z
SEQUENCE:0
TRANSP:OPAQUE
DTEND:20090527T034500Z
URL:http://jmshockey.com/games/568
LOCATION:New Hope Ice Arena
SUMMARY:Level 5 Game at New Hope Ice Arena
CLASS:PUBLIC
DTSTAMP:20260421T142157Z
END:VEVENT
END:VCALENDAR