BEGIN:VCALENDAR
VERSION:2.0
PRODID:JMS Hockey
X-PUBLISHED-TTL:P1W
BEGIN:VEVENT
UID:69e7c33d3fe62
DTSTART:20131228T041500Z
SEQUENCE:0
TRANSP:OPAQUE
DTEND:20131228T054500Z
URL:http://jmshockey.com/games/5676
LOCATION:Roseville Skating Center
SUMMARY:Lower Level Game at Roseville Skating Center
CLASS:PUBLIC
DTSTAMP:20260421T133437Z
END:VEVENT
END:VCALENDAR