BEGIN:VCALENDAR
VERSION:2.0
PRODID:JMS Hockey
X-PUBLISHED-TTL:P1W
BEGIN:VEVENT
UID:69e7af245d9c2
DTSTART:20131219T035000Z
SEQUENCE:0
TRANSP:OPAQUE
DTEND:20131219T052000Z
URL:http://jmshockey.com/games/5650
LOCATION:St Thomas Ice Arena
SUMMARY:Lower Level Game at St Thomas Ice Arena
CLASS:PUBLIC
DTSTAMP:20260421T120852Z
END:VEVENT
END:VCALENDAR