BEGIN:VCALENDAR
VERSION:2.0
PRODID:JMS Hockey
X-PUBLISHED-TTL:P1W
BEGIN:VEVENT
UID:69e787b1cc915
DTSTART:20131212T034000Z
SEQUENCE:0
TRANSP:OPAQUE
DTEND:20131212T051000Z
URL:http://jmshockey.com/games/5649
LOCATION:St Thomas Ice Arena
SUMMARY:Lower Level Game at St Thomas Ice Arena
CLASS:PUBLIC
DTSTAMP:20260421T092033Z
END:VEVENT
END:VCALENDAR